Workbook

Sheet mod. SITUAM 2024
A1: mod. SITUAM (previsto dall'art. 42)
A3: SITUAZIONE AMMINISTRATIVA
A6: Consistenza della cassa all'inizio dell'esercizio | I6: 256891192
A9: Riscossioni | C9: in c/competenza | G9: ='Stampa rendiconto PI - ENTR'!$I$105 -> 35817725
C10: in c/residui | G10: ='Stampa rendiconto PII - ENTRATE'!F105 -> 5708458 | I10: =G9+G10 -> 41526183
A12: Pagamenti | C12: in c/competenza | G12: ='Stampa rendiconto PI - USC '!$I$143 -> 32202356
C13: in c/residui | G13: ='Stampa rendiconto PII - USCITE'!F143 -> 17264535 | I13: =G12+G13 -> 49466891
A15: Consistenza della cassa alla fine dell'esercizio | I15: =I6+I10-I13 -> 248950484 | Z15: =217053660-1301860-15146 -> 215736654
A18: Residui attivi | C18: degli esercizi precedenti | G18: ='Stampa rendiconto PII - ENTRATE'!G105 -> 14428956
C19: dell'esercizio | G19: ='Stampa rendiconto PI - ENTR'!$J$105 -> 36333022 | I19: =G18+G19+J19 -> 50761978
A21: Residui passivi | C21: degli esercizi precedenti | G21: ='Stampa rendiconto PII - USCITE'!G143 -> 40201348
C22: dell'esercizio | G22: ='Stampa rendiconto PI - USC '!$J$143 -> 77448562 | I22: =G21+G22 -> 117649910
A24: Avanzo | B24: dell'amministrazione alla fine dell'esercizio | I24: =I15+I19-I22 -> 182062552
A25: Disavanzo
A29: L'utilizzazione dell'avanzo di amministrazione per l'esercizio 2024 risulta così prevista:
A31: Parte vincolata
A32: al Trattamento di fine rapporto | I32: 2525730
A33: ai Fondi per rischi ed oneri per contenzioso | I33: 4717948
B34: ………………………………….
A35: al Fondo ripristino investimenti | K35: SEC
A36: per i seguenti altri vincolii | J36: 8422845.3 | N36: delibera cipe diga e darsena al netto degli edifici
B37: ………………………………… | J37: 38008587 | K37: 4036882.8 | L37: =7000000-K37 -> 2963117.2 | M37: 16050298 | N37: 4015587 protocollo dragaggi al netto di 2150000 impegnati
B38: fondo acc.to per crediti di difficile esigibilità | G38: 12586 | M38: =I33-M37 -> -11332350 | S38: inserire il 4° vincolo tecnomecc ed aggiornare i precedenti | Y38: assestato | Z38: art 199 | AA38: 160628
A39: somme vincolate per canoni demaniali | G39: 34714
A40: somme vincolate per deposito merci in porto | G40: 161292
A41: somme vincolate per immobilizzazioni finanziarie | G41: 3080
A42: Regione Puglia - intervento di completamento della messa in sicurezza | G42: 4230655
A43: permanente della falda nell’area Ex Yard Belleli ricompresa nel SIN di Taranto
A44: anticipazione fondo complementare PNRR d.l. 59/2021 | G44: 9523806
E45: Totale parte vincolata | I45: =SUM(G38:G44)+I32+I33 -> 21209811
A46: ……………………………………………………. | I46: ………………
A47: ………………………………………..
J48: =I50-34590000 -> 126262741 | N48: al netto del finanziamento di € 34.590.000 non più disponibile
E50: Totale parte disponibile | I50: =I52-I45 -> 160852741
A52: Totale Risultato di amministrazione al 31/12/2024 | I52: =I24 -> 182062552

Sheet Quadro Generale 
A2: Autorità di Sistema Portuale del Mar Ionio - Porto di Taranto
A4: QUADRO GENERALE RIASSUNTIVO CONSUNTIVO
B7: ENTRATE | D7: Anno 2024 | H7: Anno 2023
D8: COMPETENZA | F8: CASSA | H8: COMPETENZA | J8: CASSA
B9: UPB 1.1 - ENTRATE DERIVANTI DA TRASFERIMENTI CORRENTI | D9: ='decisionale entrate '!D14 -> 0 | F9: ='decisionale entrate '!E14 -> 0 | H9: 36600 | J9: 54250
B10: UPB 1.2 - ENTRATE DIVERSE | D10: ='decisionale entrate '!D21 -> 23939484 | F10: ='decisionale entrate '!E21 -> 25650795 | H10: 24546839 | J10: 24516525
B11: TOTALE TITOLO I | D11: =SUM(D9:E10) -> 23939484 | F11: =SUM(F9:G10) -> 25650795 | H11: 24583439 | J11: 24570775
B12: UPB 2.1 - ENTRATE PER ALIENAZIONE DI BENI PATRIMONIALI E RISCOSSIONE DI CREDITI | D12: ='decisionale entrate '!D29 -> 0 | F12: ='decisionale entrate '!E28 -> 0 | H12: 1851457 | J12: 1851457
B13: UPB 2.2 - ENTRATE DERIVANTI DA TRASFERIMENTI IN CONTO CAPITALE | D13: ='decisionale entrate '!D35 -> 44154002 | F13: ='decisionale entrate '!E35 -> 11576921 | H13: 31753635 | J13: 28049458
B14: UPB 2.3 - ACCENSIONE DI PRESTITI | D14: ='decisionale entrate '!D40 -> 0 | F14: 0 | H14: 0 | J14: 0
B15: TOTALE TITOLO II | D15: =SUM(D12:E14) -> 44154002 | F15: =SUM(F12:G14) -> 11576921 | H15: 33605092 | J15: 29900915
B16: UPB 3.1 - ENTRATE AVENTI NATURA DI PARTITA DI GIRO | D16: ='decisionale entrate '!D46 -> 4057261 | F16: ='decisionale entrate '!E45 -> 4298467 | H16: 3888060 | J16: 3419946
B17: TOTALE TITOLO III | D17: =SUM(D16) -> 4057261 | F17: =SUM(F16) -> 4298467 | H17: 3888060 | J17: 3419946
B18: TOTALE GENERALE ENTRATE | D18: =D11+D15+D17 -> 72150747 | F18: =F11+F15+F17 -> 41526183 | H18: 62076591 | J18: 57891636
B19: Utilizzo dell'avanzo di amministrazione iniziale | D19: =D35-D18 -> 37500171
B20: Totali a pareggio | D20: =SUM(D18:E19) -> 109650918 | F20: =SUM(F18:G19) -> 41526183 | H20: 62076591 | J20: 57891636
B22: USCITE | D22: Anno 2024 | H22: Anno 2023
D23: COMPETENZA | F23: CASSA | H23: COMPETENZA | J23: CASSA
B24: 1.1 - FUNZIONAMENTO | D24: ='decisionale spese'!D11 -> 7141775 | F24: ='decisionale spese'!E11 -> 6869077 | H24: 6746980 | J24: 6467322
B25: 1.2 - INTERVENTI DIVERSI | D25: ='decisionale spese'!D19 -> 7769177 | F25: ='decisionale spese'!E19 -> 6590903 | H25: 6281721 | J25: 6484552
B26: 1.3 - TRATTAMENTI DI QUIESCENZA, INTEGRATIVI E SOSTITUTIVI | D26: 0 | F26: 0 | H26: 0 | J26: 0
B27: 1.4 - ACCANTONAMENTI A FONDI RISCHI ED ONERI | D27: 0 | F27: 0 | H27: 0 | J27: 0
B28: 1.5 - ACCANTONAMENTI A FONDI RISCHI ED ONERI | D28: 0 | F28: 0 | H28: 0 | J28: 0
B29: TOTALE TITOLO I- UPB 1 | D29: =SUM(D24:E28) -> 14910952 | F29: =SUM(F24:G28) -> 13459980 | H29: 13028701 | J29: 12951874
B30: 2.1 - INVESTIMENTI | D30: ='decisionale spese'!D37 -> 90682705 | F30: ='decisionale spese'!E37 -> 31726269 | H30: 42433768 | J30: 24486654
B31: 2.2 - ONERI COMUNI | D31: 0 | F31: 0 | H31: 0 | J31: 0
B32: TOTALE TITOLO II - UPB 2 | D32: =SUM(D30:E31) -> 90682705 | F32: =SUM(F30:G31) -> 31726269 | H32: 42433768 | J32: 24486654
B33: 3.1 - USCITE AVENTI NATURA DI PARTITA DI GIRO | D33: ='decisionale spese'!D49 -> 4057261 | F33: ='decisionale spese'!E48 -> 4280642 | H33: 3888060 | J33: 3675810
B34: TOTALE TITOLO III - UPB. 3 | D34: =SUM(D33) -> 4057261 | F34: =SUM(F33) -> 4280642 | H34: 3888060 | J34: 3675810
B35: TOTALE GENERALE USCITE | D35: =D29+D32+D34 -> 109650918 | F35: =F29+F32+F34 -> 49466891 | H35: 59350529 | J35: 41114338
B36: Copertura del disavanzo di amministrazione iniziale
B37: Totali a pareggio | D37: =D35 -> 109650918 | F37: =SUM(F35:G36) -> 49466891 | H37: 59350529 | J37: 41114338
E39: Anno 2024 | I39: Anno 2023
C40: RISULTATI DIFFERENZIALI | E40: COMPETENZA | G40: CASSA | I40: COMPETENZA | K40: CASSA
C41: Situazione Finanziaria | E41: =D11-D29 -> 9028532 | G41: =F11-F29 -> 12190815 | I41: =H11-H29 -> 11554738 | K41: =J11-J29 -> 11618901
C42: Saldo movimenti in c/capitale | E42: =D15-D32 -> -46528703 | G42: =F15-F32 -> -20149348 | I42: =H15-H32 -> -8828676 | K42: =J15-J32 -> 5414261
C43: Indebitamento/Accreditamento netto | E43: =SUM(E41:F42) -> -37500171 | G43: =SUM(G41:H42) -> -7958533 | I43: =I42+I41 -> 2726062 | K43: =SUM(K41:L42) -> 17033162 | O43: 220570446
C44: Saldo netto da finanziare/impiegare | E44: =E43 -> -37500171 | G44: =G43 -> -7958533 | I44: =I43 -> 2726062 | K44: =K43 -> 17033162 | O44: =O43+I45 -> 223296508
C45: Saldo complessivo | E45: =D18-D35 -> -37500171 | G45: =F18-F35 -> -7940708 | I45: =H18-H35 -> 2726062 | K45: =J18-J35 -> 16777298 | O45: 193731
O47: =O44-O45 -> 223102777

Sheet decisionale spese
A1: Autorità di Sistema Portuale del Mar Ionio - Porto di Taranto
A2: RENDICONTO FINANZIARIO DECISIONALE
A4: USCITE | C4: 2024 | F4: 2023
A5: Codice | B5: Descrizione | C5: Residui | D5: Competenza (Impegni) | E5: Cassa (Pagamenti) | F5: Residui | G5: Competenza (Impegni) | H5: Cassa (Pagamenti)
A6: U1 | B6: UPB 1 - TITOLO I - USCITE CORRENTI
A7: U1.1 | B7: 1.1 - FUNZIONAMENTO
A8: U1.1.1 | B8: Categoria 1.1.1 - USCITE PER GLI ORGANI DELL'ENTE | C8: 9891 | D8: ='Stampa rendiconto PI - USC '!$K$13 -> 362711 | E8: ='Stampa rendiconto PII - USCITE'!L13 -> 370484 | F8: 9891 | G8: 351175 | H8: 355422
A9: U1.1.2 | B9: Categoria 1.1.2 - ONERI PER IL PERSONALE IN ATTIVITÀ DI SERVIZIO | C9: 307658 | D9: ='Stampa rendiconto PI - USC '!$K$24 -> 6219583 | E9: ='Stampa rendiconto PII - USCITE'!L24 -> 6047285 | F9: 307658 | G9: 5833987 | H9: 5571152
A10: U1.1.3 | B10: Categoria 1.1.3 - USCITE PER L'ACQUISTO DI BENI DI CONSUMO E DI SERVIZIO | C10: 162228 | D10: ='Stampa rendiconto PI - USC '!$K$44 -> 559481 | E10: ='Stampa rendiconto PII - USCITE'!L44 -> 451308 | F10: 162228 | G10: 561818 | H10: 540748
A11: TOTALE 1.1 - FUNZIONAMENTO | C11: =SUM(C8:C10) -> 479777 | D11: =SUM(D8:D10) -> 7141775 | E11: =SUM(E8:E10) -> 6869077 | F11: 479777 | G11: 6746980 | H11: 6467322
A12: U1.2 | B12: 1.2 - INTERVENTI DIVERSI
A13: U1.2.1 | B13: Categoria 1.2.1 - USCITE PER PRESTAZIONI ISTITUZIONALI | C13: 1775871 | D13: ='Stampa rendiconto PI - USC '!$K$51 -> 5922216 | E13: ='Stampa rendiconto PII - USCITE'!L51 -> 4805635 | F13: 1775871 | G13: 4417189 | H13: 4772368
A14: U1.2.2 | B14: Categoria 1.2.2 - TRASFERIMENTI PASSIVI | C14: 164264 | D14: ='Stampa rendiconto PI - USC '!$K$56 -> 434020 | E14: ='Stampa rendiconto PII - USCITE'!L56 -> 364372 | F14: 164264 | G14: 523000 | H14: 380143
A15: U1.2.3 | B15: Categoria 1.2.3 - ONERI FINANZIARI | C15: 155 | D15: ='Stampa rendiconto PI - USC '!$K$59 -> 24000 | E15: ='Stampa rendiconto PII - USCITE'!L59 -> 23964 | F15: 155 | G15: 15572 | H15: 19354
A16: U1.2.4 | B16: Categoria 1.2.4 - ONERI TRIBUTARI | C16: 42354 | D16: ='Stampa rendiconto PI - USC '!$K$62 -> 1080078 | E16: ='Stampa rendiconto PII - USCITE'!L62 -> 1068236 | F16: 42354 | G16: 1017097 | H16: 976938
A17: U1.2.5 | B17: Categoria 1.2.5 - POSTE CORRETTIVE E COMPENSATIVE DI ENTRATE CORRENTI | C17: 0 | D17: ='Stampa rendiconto PI - USC '!$K$65 -> 0 | E17: ='Stampa rendiconto PII - USCITE'!L65 -> 0 | F17: 0 | G17: 0 | H17: 25368
A18: U1.2.6 | B18: Categoria 1.2.6 - USCITE NON CLASSIFICABILI IN ALTRE VOCI | C18: 104748 | D18: ='Stampa rendiconto PI - USC '!$K$71 -> 308863 | E18: ='Stampa rendiconto PII - USCITE'!L71 -> 328696 | F18: 104748 | G18: 308863 | H18: 310381
A19: TOTALE 1.2 - INTERVENTI DIVERSI | C19: =SUM(C13:C18) -> 2087392 | D19: =SUM(D13:D18) -> 7769177 | E19: =SUM(E13:E18) -> 6590903 | F19: 2087392 | G19: 6281721 | H19: 6484552
A20: U1.3 | B20: 1.3 - TRATTAMENTI DI QUIESCENZA, INTEGRATIVI E SOSTITUTIVI
A21: U1.3.1 | B21: Categoria 1.3.1 - ONERI PER IL PERSONALE IN QUIESCENZA | C21: 0 | D21: 0 | E21: 0 | F21: 0 | G21: 0 | H21: 0
A22: U1.3.2 | B22: Categoria 1.3.2 - ACCANTONAMENTO AL TRATTAMENTO DI FINE RAPPPORTO (CONTRIBUTO A.P.) | C22: 0 | D22: 0 | E22: 0 | F22: 0 | G22: 0 | H22: 0
A23: TOTALE 1.3 - TRATTAMENTI DI QUIESCENZA, INTEGRATIVI E SOSTITUTIVI | C23: 0 | D23: 0 | E23: 0 | F23: 0 | G23: 0 | H23: 0
A24: U1.4 | B24: 1.4 - ACCANTONAMENTI A FONDI RISCHI ED ONERI
A25: U1.4.1 | B25: Categoria 1.4.1 - FONDO RISCHI E ONERI | C25: 0 | D25: 0 | E25: 0 | F25: 0 | G25: 0 | H25: 0
A26: TOTALE 1.4 - ACCANTONAMENTI A FONDI RISCHI ED ONERI | C26: 0 | D26: 0 | E26: 0 | F26: 0 | G26: 0 | H26: 0
A27: U1.5 | B27: 1.5 - ACCANTONAMENTI A FONDI RISCHI ED ONERI
A28: TOTALE 1.5 - ACCANTONAMENTI A FONDI RISCHI ED ONERI | C28: 0 | D28: 0 | E28: 0 | F28: 0 | G28: 0 | H28: 0
A29: TOTALE UPB 1 - TITOLO I - USCITE CORRENTI | C29: =C11+C19 -> 2567169 | D29: =D11+D19 -> 14910952 | E29: =E11+E19 -> 13459980 | F29: 2567169 | G29: 13028701 | H29: 12951874
A30: U2 | B30: UPB 2 - TITOLO II - USCITE IN CONTO CAPITALE
A31: U2.1 | B31: 2.1 - INVESTIMENTI
A32: U2.1.1 | B32: Categoria 2.1.1 - ACQUISIZIONE DI BENI DI USO DUREVOLE ED OPERE IMMOBILIARI E INVESTIMENTI | C32: 53358879 | D32: ='Stampa rendiconto PI - USC '!$K$91 -> 86970556 | E32: ='Stampa rendiconto PII - USCITE'!L91 -> 28739047 | F32: 53358879 | G32: 40706775 | H32: 22048170
A33: U2.1.2 | B33: Categoria 2.1.2 - ACQUISIZIONE DI IMMOBILIZZAZIONI TECNICHE | C33: 821951 | D33: ='Stampa rendiconto PI - USC '!$K$98 -> 3383052 | E33: ='Stampa rendiconto PII - USCITE'!L98 -> 2594255 | F33: 821951 | G33: 1216266 | H33: 1577474
A34: U2.1.3 | B34: Categoria 2.1.3 PARTECIPAZIONI A PROGETTI EUROPEI, NAZIONALI E REGIONALI ED ACQUISTO DI VALORI MOBILIARI | C34: 3700453 | D34: ='Stampa rendiconto PI - USC '!$K$102 -> 61152 | E34: ='Stampa rendiconto PII - USCITE'!L102 -> 134002 | F34: 3700453 | G34: 307284 | H34: 668515
A35: U2.1.4 | B35: Categoria 2.1.4 - CONCESSIONI DI CREDITI ED ANTICIPAZIONI | C35: 0 | D35: ='Stampa rendiconto PI - USC '!K107 -> 3500 | E35: ='Stampa rendiconto PII - USCITE'!K107 -> 3500 | F35: 0 | G35: 0 | H35: 0
A36: U2.1.5 | B36: Categoria 2.1.5 - INDENNITÀ DI ANZIANITÀ E SIMILARI DOVUTE AL PERSONALE CESSATO DAL SERVIZIO. | C36: 10948 | D36: ='Stampa rendiconto PI - USC '!$K$112 -> 264445 | E36: ='Stampa rendiconto PII - USCITE'!L112 -> 255465 | F36: 10948 | G36: 203443 | H36: 192495
A37: TOTALE 2.1 - INVESTIMENTI | C37: =SUM(C32:C36) -> 57892231 | D37: =SUM(D32:D36) -> 90682705 | E37: =SUM(E32:E36) -> 31726269 | F37: 57892231 | G37: 42433768 | H37: 24486654
A38: U2.2 | B38: 2.2 - ONERI COMUNI
A39: U2.2.1 | B39: Categoria 2.2.1 - RIMBORSI DI MUTUI | C39: 0 | D39: 0 | E39: 0 | F39: 0 | G39: 0 | H39: 0
A40: U2.2.2 | B40: Categoria 2.2.2 - RIMBORSO DI ANTICIPAZIONI PASSIVE | C40: 0 | D40: 0 | E40: 0 | F40: 0 | G40: 0 | H40: 0
A41: U2.2.3 | B41: Categoria 2.2.3 - RIMBORSI DI OBBLIGAZIONI | C41: 0 | D41: 0 | E41: 0 | F41: 0 | G41: 0 | H41: 0
...

Sheet decisionale entrate 
A1: Autorità di Sistema Portuale del Mar Ionio - Porto di Taranto
A2: RENDICONTO FINANZIARIO DECISIONALE
A3: 03/04/2017
A4: ENTRATE | C4: 2024 | F4: 2023
A5: Codice | B5: Descrizione | C5: Residui da fare | D5: Competenza (Accertamenti) | E5: Cassa (Riscossioni) | F5: Residui | G5: Competenza (Accertamenti) | H5: Cassa (Riscossioni)
A8: E1 | B8: TITOLO I - ENTRATE CORRENTI
A9: E1.1 | B9: UPB 1.1 - ENTRATE DERIVANTI DA TRASFERIMENTI CORRENTI
A10: E1.1.1 | B10: Categoria 1.1.1 - TRASFERIMENTI DA PARTE DELLO STATO | C10: 0 | D10: 0 | E10: 0 | F10: 0 | G10: 0 | H10: 0
A11: E1.1.2 | B11: Categoria 1.1.2 - TRASFERIMENTI DA PARTE DELLE REGIONI | C11: 5000 | D11: ='Stampa rendiconto PI - ENTR'!K14 -> 0 | E11: ='Stampa rendiconto PII - ENTRATE'!L14 -> 0 | F11: 5000 | G11: 36600 | H11: 54250
A12: E1.1.3 | B12: Categoria 1.1.3 - TRASFERIMENTI DA PARTE DEI COMUNI E DELLE PROVINCE | C12: 0 | D12: 0 | E12: 0 | F12: 0 | G12: 0 | H12: 0
A13: E1.1.4 | B13: Categoria 1.1.4 - TRASFERIMENTI DA PARTE DI ALTRI ENTI DEL SETTORE PUBBLICO | C13: 0 | D13: 0 | E13: 0 | F13: 0 | G13: 0 | H13: 0
A14: TOTALE UPB 1.1 - ENTRATE DERIVANTI DA TRASFERIMENTI CORRENTI | C14: =SUM(C10:C13) -> 5000 | D14: =SUM(D10:D13) -> 0 | E14: =SUM(E10:E13) -> 0 | F14: 5000 | G14: 36600 | H14: 54250
A15: E1.2 | B15: UPB 1.2 - ENTRATE DIVERSE
A16: E1.2.1 | B16: Categoria 1.2.1 - ENTRATE TRIBUTARIE | C16: 1803151 | D16: ='Stampa rendiconto PI - ENTR'!K31 -> 10976656 | E16: ='Stampa rendiconto PII - ENTRATE'!L31 -> 12770947 | F16: 1803151 | G16: 16004386 | H16: 15310077
A17: E1.2.2 | B17: Categoria 1.2.2 - ENTRATE DERIVANTI DALLA VENDITA DI BENI E DALLA PRESTAZIONE DI SERVIZI | C17: 0 | D17: 0 | E17: 0 | F17: 0 | G17: 0 | H17: 0
A18: E1.2.3 | B18: Categoria 1.2.3 - REDDITI E PROVENTI PATRIMONIALI | C18: 212029 | D18: ='Stampa rendiconto PI - ENTR'!K40 -> 5968832 | E18: ='Stampa rendiconto PII - ENTRATE'!L40 -> 5888421 | F18: 212029 | G18: 4170245 | H18: 4859404
A19: E1.2.4 | B19: Categoria 1.2.4 - POSTE CORRETTIVE E COMPENSATIVE DI SPESE CORRENTI | C19: 77234 | D19: ='Stampa rendiconto PI - ENTR'!K44 -> 6611220 | E19: ='Stampa rendiconto PII - ENTRATE'!L44 -> 6608651 | F19: 77234 | G19: 4281845 | H19: 4256681
A20: E1.2.5 | B20: Categoria 1.2.5 - ENTRATE NON CLASSIFICABILI IN ALTRE VOCI | C20: 0 | D20: ='Stampa rendiconto PI - ENTR'!K48 -> 382776 | E20: ='Stampa rendiconto PII - ENTRATE'!L48 -> 382776 | F20: 0 | G20: 90363 | H20: 90363
A21: TOTALE UPB 1.2 - ENTRATE DIVERSE | C21: =SUM(C16:C20) -> 2092414 | D21: =SUM(D16:D20) -> 23939484 | E21: =SUM(E16:E20) -> 25650795 | F21: 2092414 | G21: 24546839 | H21: 24516525
A22: TOTALE TITOLO I - ENTRATE CORRENTI | C22: =C14+C21 -> 2097414 | D22: =D21+D14 -> 23939484 | E22: =E21+E14 -> 25650795 | F22: 2097414 | G22: 24583439 | H22: 24570775
A23: E2 | B23: TITOLO II - ENTRATE IN CONTO CAPITALE
A24: E2.1 | B24: UPB 2.1 - ENTRATE PER ALIENAZIONE DI BENI PATRIMONIALI E RISCOSSIONE DI CREDITI
A25: E2.1.1 | B25: Categoria 2.1.1 - ALIENAZIONE IMMOBILI E DIRITTI REALI | C25: 0 | D25: 0 | E25: 0 | F25: 0 | G25: 0 | H25: 0
A26: E2.1.2 | B26: Categoria 2.1.2 - ALIENAZIONE DI IMMOBILIZZAZIONI TECNICHE DIVERSE E DI BENI IMMATERIALI | C26: 0 | D26: 0 | E26: 0 | F26: 0 | G26: 0 | H26: 0
A27: E2.1.3 | B27: Categoria 2.1.3 - REALIZZO DI VALORI IMMOBILIARI | C27: 0 | D27: 0 | E27: 0 | F27: 0 | G27: 0 | H27: 0
A28: E2.1.4 | B28: Categoria 2.1.4 - RISCOSSIONE DI CREDITI | C28: 0 | D28: ='Stampa rendiconto PI - ENTR'!$K$64 -> 0 | E28: ='Stampa rendiconto PII - ENTRATE'!L65 -> 0 | F28: 0 | G28: 1851457 | H28: 1851457
A29: TOTALE UPB 2.1 - ENTRATE PER ALIENAZIONE DI BENI PATRIMONIALI E RISCOSSIONE DI CREDITI | C29: 0 | D29: =SUM(D25:D28) -> 0 | E29: =SUM(E25:E28) -> 0 | F29: 0 | G29: 1851457 | H29: 1851457
A30: E2.2 | B30: UPB 2.2 - ENTRATE DERIVANTI DA TRASFERIMENTI IN CONTO CAPITALE
A31: E2.2.1 | B31: Categoria 2.2.1 - TRASFERIMENTI DELLO STATO | C31: 16433403 | D31: ='Stampa rendiconto PI - ENTR'!K69 -> 33940797 | E31: ='Stampa rendiconto PII - ENTRATE'!L69 -> 3435988 | F31: 16433403 | G31: 25535352 | H31: 22342182
A32: E2.2.2 | B32: Categoria 2.2.2 - TRASFERIMENTI DELLA REGIONE | C32: 0 | D32: ='Stampa rendiconto PI - ENTR'!K72 -> 10174799 | E32: ='Stampa rendiconto PII - ENTRATE'!L72 -> 7631099 | F32: 0 | G32: 0 | H32: 21850
A33: E2.2.3 | B33: Categoria 2.2.3 - TRASFERIMENTI DA COMUNI E PROVINCE | C33: 0 | D33: 0 | E33: 0 | F33: 0 | G33: 0 | H33: 0
A34: E2.2.4 | B34: Categoria 2.2.4 - TRASFERIMENTI DA ALTRI ENTI DEL SETTORE PUBBLICO | C34: 4300476 | D34: ='Stampa rendiconto PI - ENTR'!K80 -> 38406 | E34: ='Stampa rendiconto PII - ENTRATE'!L79 -> 509834 | F34: 4300476 | G34: 6218283 | H34: 5685426
A35: TOTALE UPB 2.2 - ENTRATE DERIVANTI DA TRASFERIMENTI IN CONTO CAPITALE | C35: =SUM(C31:C34) -> 20733879 | D35: =SUM(D31:D34) -> 44154002 | E35: =SUM(E31:E34) -> 11576921 | F35: 20733879 | G35: 31753635 | H35: 28049458
A36: E2.3 | B36: UPB 2.3 - ACCENSIONE DI PRESTITI
A37: E2.3.1 | B37: Categoria 2.3.1 - ASSUNZIONE DI MUTUI | C37: 0 | D37: 0 | E37: 0 | F37: 0 | G37: 0 | H37: 0
A38: E2.3.2 | B38: Categoria 2.3.2 - ASSUNZIONE DI ALTRI DEBITI FINANZIARI | C38: 0 | D38: 0 | E38: 0 | F38: 0 | G38: 0 | H38: 0
A39: E2.3.3 | B39: Categoria 2.3.3 - EMISSIONE DI OBBLIGAZIONI | C39: 0 | D39: 0 | E39: 0 | F39: 0 | G39: 0 | H39: 0
A40: TOTALE UPB 2.3 - ACCENSIONE DI PRESTITI | C40: 0 | D40: =SUM(D37:D39) -> 0 | E40: =SUM(E37:E39) -> 0 | F40: 0 | G40: 0 | H40: 0
A41: TOTALE TITOLO II - ENTRATE IN CONTO CAPITALE | C41: =C35 -> 20733879 | D41: =D35+D40+D29 -> 44154002 | E41: =E35+E40+E29 -> 11576921 | F41: 20733879 | G41: 33605092 | H41: 29900915
A42: E3 | B42: TITOLO III - PARTITE DI GIRO
...

Sheet Stampa rendiconto PI - ENTR
A1: Autorità di Sistema Portuale del Mar Ionio - Porto di Taranto
A2: RENDICONTO FINANZIARIO GESTIONALE
A3: ENTRATE PARTE I Dal 01/01/2024 Al 31/12/2024 Anno di gestione: 2024
A5: Capitolo | E5: Gestione di Competenza
E6: Previsioni | I6: Somme da Accertare | L6: Differenze rispetto alle previsioni
A7: Codice | B7: Descrizione | E7: Stanziamento Iniziale | F7: Variazioni(+) | G7: Variazioni(-) | H7: Previsione Assestata | I7: Riscossioni | J7: Da Riscuotere | K7: Accertato | L7: Differenze Previsioni (+) | M7: Differenze Previsioni (-)
A8: E1 | B8: TITOLO I - ENTRATE CORRENTI
A9: E1.1.1 | B9: Categoria 1.1.1 - TRASFERIMENTI DA PARTE DELLO STATO
A10: E111/10 | B10: Contributi dello Stato | E10: 0 | F10: 0 | G10: 0 | H10: 0 | I10: 0 | J10: 0 | K10: 0 | L10: 0 | M10: 0
A11: TOTALE CATEGORIA E1.1.1 | E11: 0 | F11: 0 | G11: 0 | H11: 0 | I11: 0 | J11: 0 | K11: 0 | L11: 0 | M11: 0
A12: E1.1.2 | B12: Categoria 1.1.2 - TRASFERIMENTI DA PARTE DELLE REGIONI
A13: E112/10 | B13: Contributo della Regione Puglia | E13: 0 | F13: 0 | G13: 0 | H13: 0 | I13: 0 | J13: 0 | K13: 0 | L13: 0 | M13: 0
A14: TOTALE CATEGORIA E1.1.2 | E14: 0 | F14: 0 | G14: 0 | H14: 0 | I14: 0 | J14: 0 | K14: 0 | L14: 0 | M14: 0
A15: E1.1.3 | B15: Categoria 1.1.3 - TRASFERIMENTI DA PARTE DEI COMUNI E DELLE PROVINCE
A16: E113/10 | B16: Contributi della Provincia di Taranto | E16: 0 | F16: 0 | G16: 0 | H16: 0 | I16: 0 | J16: 0 | K16: 0 | L16: 0 | M16: 0
A17: E113/20 | B17: Contributo del Comune di Taranto | E17: 0 | F17: 0 | G17: 0 | H17: 0 | I17: 0 | J17: 0 | K17: 0 | L17: 0 | M17: 0
A18: TOTALE CATEGORIA E1.1.3 | E18: 0 | F18: 0 | G18: 0 | H18: 0 | I18: 0 | J18: 0 | K18: 0 | L18: 0 | M18: 0
A19: E1.1.4 | B19: Categoria 1.1.4 - TRASFERIMENTI DA PARTE DI ALTRI ENTI DEL SETTORE PUBBLICO
A20: E114/10 | B20: Contributo Camera di Commercio di Taranto | E20: 0 | F20: 0 | G20: 0 | H20: 0 | I20: 0 | J20: 0 | K20: 0 | L20: 0 | M20: 0
A21: E114/20 | B21: Contributo altri enti pubblici | E21: 0 | F21: 0 | G21: 0 | H21: 0 | I21: 0 | J21: 0 | K21: 0 | L21: 0 | M21: 0
A22: E114/30 | B22: Contributi diversi | E22: 0 | F22: 0 | G22: 0 | H22: 0 | I22: 0 | J22: 0 | K22: 0 | L22: 0 | M22: 0
A23: TOTALE CATEGORIA E1.1.4 | E23: 0 | F23: 0 | G23: 0 | H23: 0 | I23: 0 | J23: 0 | K23: 0 | L23: 0 | M23: 0
A24: E1.2.1 | B24: Categoria 1.2.1 - ENTRATE TRIBUTARIE
A25: E121/00 | B25: Gettito della tassa portuale | E25: 9000000 | F25: 0 | G25: 0 | H25: 9000000 | I25: 7028314 | J25: =K25-I25 -> 0 | K25: 7028314 | L25: 0 | M25: =K25-H25 -> -1971686
A26: E121/10 | B26: Gettito delle tasse sulle merci imb.e sbar.Cap III, Titolo II L. 82/63 e art. 1 L. 355/76 ecc. (cod.901) | E26: 0 | F26: 0 | G26: 0 | H26: 0 | I26: 0 | J26: =K26-I26 -> 0 | K26: =I26 -> 0 | L26: 0 | M26: =K26-H26 -> 0
A27: E121/20 | B27: Gettito delle tasse erariali di cui all'art.2, c.1.D.L.47/74 (cod. 921) | E27: 0 | F27: 0 | G27: 0 | H27: 0 | I27: 0 | J27: =K27-I27 -> 0 | K27: =I27 -> 0 | L27: 0 | M27: =K27-H27 -> 0
A28: E121/30 | B28: Gettito delle tasse ancoraggio (cod. 922) | E28: 5000000 | F28: 0 | G28: 0 | H28: 5000000 | I28: =ROUND(3788133.53,0) -> 3788134 | J28: =K28-I28 -> 0 | K28: =ROUND(3788133.53,0) -> 3788134 | L28: 0 | M28: =K28-H28 -> -1211866
A29: E121/40 | B29: Proventi di autorizzazione per operazioni portuali di cui all' art.16 L. 84/94 | E29: 63790 | F29: 36210 | G29: 0 | H29: =E29+F29 -> 100000 | I29: =ROUND(74572,0) -> 74572 | J29: =K29-I29 -> 8860 | K29: =ROUND(83432,0) -> 83432 | L29: 0 | M29: =K29-H29 -> -16568
A30: E121/50 | B30: Proventi di autorizzazioni per attività svolte nel porto di cui all ' art.68 del Codice della Navigazione | E30: 50000 | F30: 50000 | G30: 0 | H30: =E30+F30 -> 100000 | I30: =ROUND(76776,0) -> 76776 | J30: =K30-I30 -> 0 | K30: =I30 -> 76776 | M30: =K30-H30 -> -23224
A31: TOTALE CATEGORIA E1.2.1 | E31: =SUM(E25:E30) -> 14113790 | F31: =SUM(F25:F30) -> 86210 | G31: 0 | H31: =SUM(H25:H30) -> 14200000 | I31: =SUM(I25:I30) -> 10967796 | J31: =SUM(J25:J30) -> 8860 | K31: =SUM(K25:K30) -> 10976656 | L31: =SUM(L25:L30) -> 0 | M31: =SUM(M25:M30) -> -3223344
A32: E1.2.2 | B32: Categoria 1.2.2 - ENTRATE DERIVANTI DALLA VENDITA DI BENI E DALLA PRESTAZIONE DI SERVIZI
A33: E122/10 | B33: Entrate derivanti dalla vendita di beni e dalla prestazione dei servizi | E33: 0 | F33: 0 | G33: 0 | H33: 0 | I33: 0 | J33: 0 | K33: 0 | L33: 0 | M33: 0
A34: TOTALE CATEGORIA E1.2.2 | E34: 0 | F34: 0 | G34: 0 | H34: 0 | I34: 0 | J34: 0 | K34: 0 | L34: 0 | M34: 0
A35: E1.2.3 | B35: Categoria 1.2.3 - REDDITI E PROVENTI PATRIMONIALI
A36: E123/10 | B36: Canoni di concessione aree demaniali e delle banchine in ambito portuale | E36: 3189183 | F36: 0 | G36: 0 | H36: =E36 -> 3189183 | I36: =ROUND(5836318.19,0) -> 5836318 | J36: =K36-I36 -> 89924 | K36: =ROUND(5926242.28,0) -> 5926242 | L36: =K36-H36 -> 2737059 | M36: 0
A37: E123/20 | B37: Canoni di affitto beni patrimoniali dell'Autorità Portuale | E37: 0 | F37: 0 | G37: 0 | H37: 0 | I37: 0 | J37: =K37-I37 -> 0 | K37: 0 | L37: =K37-H37 -> 0 | M37: 0
A38: E123/30 | B38: Interessi attivi su titoli, depositi, conti correnti | E38: 1000 | F38: 0 | G38: 0 | H38: 1000 | I38: =ROUND(8.59,0) -> 9 | J38: =K38-I38 -> 0 | K38: =ROUND(8.59,0) -> 9 | L38: 0 | M38: =K38-H38 -> -991
A39: E123/40 | B39: Altri proventi patrimoniali | E39: 0 | F39: 50000 | G39: 0 | H39: =E39+F39-G39 -> 50000 | I39: =ROUND(41943.59,0) -> 41944 | J39: =K39-I39 -> 637 | K39: =ROUND(42580.87,0) -> 42581 | L39: 0 | M39: =K39-H39 -> -7419
A40: TOTALE CATEGORIA E1.2.3 | E40: =SUM(E36:E39) -> 3190183 | F40: =SUM(F36:F39) -> 50000 | G40: =SUM(G36:G39) -> 0 | H40: =SUM(H36:H39) -> 3240183 | I40: =SUM(I36:I39) -> 5878271 | J40: =SUM(J36:J39) -> 90561 | K40: =SUM(K36:K39) -> 5968832 | L40: =SUM(L36:L39) -> 2737059 | M40: =SUM(M36:M39) -> -8410
A41: E1.2.4 | B41: Categoria 1.2.4 - POSTE CORRETTIVE E COMPENSATIVE DI SPESE CORRENTI
...

Sheet Stampa rendiconto PII - ENTRATE
A1: Autorità di Sistema Portuale del Mar Ionio - Porto di Taranto
A2: RENDICONTO FINANZIARIO GESTIONALE
A3: ENTRATE PARTE II Dal 01/01/2024 Al 31/12/2024 Anno di gestione: 2024
A5: Capitolo | E5: Gestione dei residui attivi | K5: Gestione di Cassa
I6: Variazioni | M6: Differenze rispetto alle previsioni
A7: Codice | B7: Descrizione | E7: Inizio Esercizio | F7: Riscossioni | G7: Da Riscuotere | H7: Totale | I7: Variazioni Residui(+) | J7: Variazioni Residui(-) | K7: Previsione Assestata | L7: Riscossioni | M7: Differenza previsioni(+) | N7: Differenza previsioni(-) | O7: Totale Residui
A8: E1 | B8: TITOLO I - ENTRATE CORRENTI
A9: E1.1.1 | B9: Categoria 1.1.1 - TRASFERIMENTI DA PARTE DELLO STATO
A10: E111/10 | B10: Contributi dello Stato | E10: 0 | F10: 0 | G10: 0 | H10: 0 | I10: 0 | J10: 0 | K10: =H10+'Stampa rendiconto PI - ENTR'!H10 -> 0 | L10: 0 | M10: 0 | N10: 0 | O10: 0
A11: TOTALE CATEGORIA E1.1.1 | E11: 0 | F11: 0 | G11: 0 | H11: 0 | I11: 0 | J11: 0 | K11: 0 | L11: 0 | M11: 0 | N11: 0 | O11: 0
A12: E1.1.2 | B12: Categoria 1.1.2 - TRASFERIMENTI DA PARTE DELLE REGIONI
A13: E112/10 | B13: Contributo della Regione Puglia | E13: 5000 | F13: 0 | G13: 5000 | H13: =E13 -> 5000 | I13: 0 | J13: 0 | K13: =H13+'Stampa rendiconto PI - ENTR'!H13 -> 5000 | L13: =F13+'Stampa rendiconto PI - ENTR'!I13 -> 0 | M13: 0 | N13: =K13-L13 -> 5000 | O13: 5000
A14: TOTALE CATEGORIA E1.1.2 | E14: =SUM(E13) -> 5000 | F14: =SUM(F13) -> 0 | G14: 5000 | H14: =SUM(H13) -> 5000 | I14: 0 | J14: 0 | K14: =SUM(K13) -> 5000 | L14: =SUM(L13) -> 0 | M14: 0 | N14: =SUM(N13) -> 5000 | O14: 5000
A15: E1.1.3 | B15: Categoria 1.1.3 - TRASFERIMENTI DA PARTE DEI COMUNI E DELLE PROVINCE
A16: E113/10 | B16: Contributi della Provincia di Taranto | E16: 0 | F16: 0 | G16: 0 | H16: 0 | I16: 0 | J16: 0 | K16: =H16+'Stampa rendiconto PI - ENTR'!H16 -> 0 | L16: 0 | M16: 0 | N16: 0 | O16: 0
A17: E113/20 | B17: Contributo del Comune di Taranto | E17: 0 | F17: 0 | G17: 0 | H17: 0 | I17: 0 | J17: 0 | K17: =H17+'Stampa rendiconto PI - ENTR'!H17 -> 0 | L17: 0 | M17: 0 | N17: 0 | O17: 0
A18: TOTALE CATEGORIA E1.1.3 | E18: 0 | F18: 0 | G18: 0 | H18: 0 | I18: 0 | J18: 0 | K18: =SUM(K16:K17) -> 0 | L18: 0 | M18: 0 | N18: 0 | O18: 0
A19: E1.1.4 | B19: Categoria 1.1.4 - TRASFERIMENTI DA PARTE DI ALTRI ENTI DEL SETTORE PUBBLICO
A20: E114/10 | B20: Contributo Camera di Commercio di Taranto | E20: 0 | F20: 0 | G20: 0 | H20: 0 | I20: 0 | J20: 0 | K20: =H20+'Stampa rendiconto PI - ENTR'!H20 -> 0 | L20: 0 | M20: 0 | N20: 0 | O20: 0
A21: E114/20 | B21: Contributo altri enti pubblici | E21: 0 | F21: 0 | G21: 0 | H21: 0 | I21: 0 | J21: 0 | K21: =H21+'Stampa rendiconto PI - ENTR'!H21 -> 0 | L21: 0 | M21: 0 | N21: 0 | O21: 0
A22: E114/30 | B22: Contributi diversi | E22: 0 | F22: 0 | G22: 0 | H22: 0 | I22: 0 | J22: 0 | K22: =H22+'Stampa rendiconto PI - ENTR'!H22 -> 0 | L22: 0 | M22: 0 | N22: 0 | O22: 0
A23: TOTALE CATEGORIA E1.1.4 | E23: 0 | F23: 0 | G23: 0 | H23: 0 | I23: 0 | J23: 0 | K23: =SUM(K20:K22) -> 0 | L23: 0 | M23: 0 | N23: 0 | O23: 0
A24: E1.2.1 | B24: Categoria 1.2.1 - ENTRATE TRIBUTARIE
A25: E121/00 | B25: Gettito della tassa portuale | E25: 1503991 | F25: =E25 -> 1503991 | G25: 0 | H25: =E25 -> 1503991 | I25: 0 | J25: 0 | K25: =H25+'Stampa rendiconto PI - ENTR'!H25 -> 10503991 | L25: =F25+'Stampa rendiconto PI - ENTR'!I25 -> 8532305 | M25: 0 | N25: =K25-L25 -> 1971686 | O25: ='Stampa rendiconto PI - ENTR'!J25+'Stampa rendiconto PII - ENTRATE'!G25 -> 0
A26: E121/10 | B26: Gettito delle tasse sulle merci imb.e sbar.Cap III, Titolo II L. 82/63 e art. 1 L. 355/76 ecc. (cod.901) | E26: 0 | F26: =E26 -> 0 | G26: 0 | H26: =E26 -> 0 | I26: 0 | J26: 0 | K26: =H26+'Stampa rendiconto PI - ENTR'!H26 -> 0 | L26: =F26+'Stampa rendiconto PI - ENTR'!I26 -> 0 | M26: 0 | N26: 0 | O26: ='Stampa rendiconto PI - ENTR'!J26+'Stampa rendiconto PII - ENTRATE'!G26 -> 0
A27: E121/20 | B27: Gettito delle tasse erariali di cui all'art.2, c.1.D.L.47/74 (cod. 921) | E27: 0 | F27: =E27 -> 0 | G27: 0 | H27: =E27 -> 0 | I27: 0 | J27: 0 | K27: =H27+'Stampa rendiconto PI - ENTR'!H27 -> 0 | L27: =F27+'Stampa rendiconto PI - ENTR'!I27 -> 0 | M27: 0 | N27: 0 | O27: ='Stampa rendiconto PI - ENTR'!J27+'Stampa rendiconto PII - ENTRATE'!G27 -> 0
A28: E121/30 | B28: Gettito delle tasse ancoraggio (cod. 922) | E28: 299160 | F28: =E28 -> 299160 | G28: 0 | H28: =E28 -> 299160 | I28: 0 | J28: 0 | K28: =H28+'Stampa rendiconto PI - ENTR'!H28 -> 5299160 | L28: =F28+'Stampa rendiconto PI - ENTR'!I28 -> 4087294 | M28: 0 | N28: =K28-L28 -> 1211866 | O28: ='Stampa rendiconto PI - ENTR'!J28+'Stampa rendiconto PII - ENTRATE'!G28 -> 0
A29: E121/40 | B29: Proventi di autorizzazione per operazioni portuali di cui all' art.16 L. 84/94 | E29: 0 | F29: 0 | G29: 0 | H29: =E29 -> 0 | I29: 0 | J29: 0 | K29: =H29+'Stampa rendiconto PI - ENTR'!H29 -> 100000 | L29: =F29+'Stampa rendiconto PI - ENTR'!I29 -> 74572 | M29: 0 | N29: =K29-L29 -> 25428 | O29: ='Stampa rendiconto PI - ENTR'!J29+'Stampa rendiconto PII - ENTRATE'!G29 -> 8860
A30: E121/50 | B30: Proventi di autorizzazioni per attività svolte nel porto di cui all ' art.68 del Codice della Navigazione | E30: 0 | F30: 0 | G30: 0 | H30: =E30 -> 0 | I30: 0 | J30: 0 | K30: =H30+'Stampa rendiconto PI - ENTR'!H30 -> 100000 | L30: =F30+'Stampa rendiconto PI - ENTR'!I30 -> 76776 | M30: 0 | N30: =K30-L30 -> 23224 | O30: ='Stampa rendiconto PI - ENTR'!J30+'Stampa rendiconto PII - ENTRATE'!G30 -> 0
A31: TOTALE CATEGORIA E1.2.1 | E31: =SUM(E25:E30) -> 1803151 | F31: =SUM(F25:F30) -> 1803151 | G31: =SUM(G25:G30) -> 0 | H31: =SUM(H25:H30) -> 1803151 | I31: 0 | J31: 0 | K31: =SUM(K25:K30) -> 16003151 | L31: =SUM(L25:L30) -> 12770947 | M31: =SUM(M25:M30) -> 0 | N31: =SUM(N25:N30) -> 3232204 | O31: =SUM(O25:P30) -> 8860
A32: E1.2.2 | B32: Categoria 1.2.2 - ENTRATE DERIVANTI DALLA VENDITA DI BENI E DALLA PRESTAZIONE DI SERVIZI
A33: E122/10 | B33: Entrate derivanti dalla vendita di beni e dalla prestazione dei servizi | E33: 0 | F33: 0 | G33: 0 | H33: 0 | I33: 0 | J33: 0 | K33: =H33+'Stampa rendiconto PI - ENTR'!H33 -> 0 | L33: 0 | M33: 0 | N33: 0 | O33: 0
A34: TOTALE CATEGORIA E1.2.2 | E34: 0 | F34: 0 | G34: 0 | H34: 0 | I34: 0 | J34: 0 | K34: 0 | L34: 0 | M34: 0 | N34: 0 | O34: 0
A35: E1.2.3 | B35: Categoria 1.2.3 - REDDITI E PROVENTI PATRIMONIALI
A36: E123/10 | B36: Canoni di concessione aree demaniali e delle banchine in ambito portuale | E36: 204371 | F36: 2699 | G36: =H36-F36 -> 201672 | H36: =E36-J36 -> 204371 | I36: 0 | J36: 0 | K36: =H36+'Stampa rendiconto PI - ENTR'!H36 -> 3393554 | L36: =F36+'Stampa rendiconto PI - ENTR'!I36 -> 5839017 | M36: =L36-K36 -> 2445463 | N36: 0 | O36: ='Stampa rendiconto PI - ENTR'!J36+'Stampa rendiconto PII - ENTRATE'!G36 -> 291596
A37: E123/20 | B37: Canoni di affitto beni patrimoniali dell'Autorità Portuale | E37: 0 | F37: 0 | G37: =H37-F37 -> 0 | H37: 0 | I37: 0 | J37: 0 | K37: =H37+'Stampa rendiconto PI - ENTR'!H37 -> 0 | L37: =F37+'Stampa rendiconto PI - ENTR'!I37 -> 0 | M37: =L37-K37 -> 0 | N37: 0 | O37: ='Stampa rendiconto PI - ENTR'!J37+'Stampa rendiconto PII - ENTRATE'!G37 -> 0
A38: E123/30 | B38: Interessi attivi su titoli, depositi, conti correnti | E38: 0 | F38: 0 | G38: =H38-F38 -> 0 | H38: 0 | I38: 0 | J38: 0 | K38: =H38+'Stampa rendiconto PI - ENTR'!H38 -> 1000 | L38: =F38+'Stampa rendiconto PI - ENTR'!I38 -> 9 | M38: 0 | N38: =K38-L38 -> 991 | O38: ='Stampa rendiconto PI - ENTR'!J38+'Stampa rendiconto PII - ENTRATE'!G38 -> 0
A39: E123/40 | B39: Altri proventi patrimoniali | E39: 7658 | F39: 7451 | G39: =H39-F39 -> 0 | H39: =E39-J39 -> 7451 | I39: 0 | J39: 207 | K39: =H39+'Stampa rendiconto PI - ENTR'!H39 -> 57451 | L39: =F39+'Stampa rendiconto PI - ENTR'!I39 -> 49395 | M39: 0 | N39: =K39-L39 -> 8056 | O39: ='Stampa rendiconto PI - ENTR'!J39+'Stampa rendiconto PII - ENTRATE'!G39 -> 637
A40: TOTALE CATEGORIA E1.2.3 | E40: =SUM(E36:E39) -> 212029 | F40: =SUM(F36:F39) -> 10150 | G40: =SUM(G36:G39) -> 201672 | H40: =SUM(H36:H39) -> 211822 | I40: 0 | J40: =SUM(J36:J39) -> 207 | K40: =SUM(K36:K39) -> 3452005 | L40: =SUM(L36:L39) -> 5888421 | M40: =SUM(M36:M39) -> 2445463 | N40: =SUM(N36:N39) -> 9047 | O40: =SUM(O36:P39) -> 292233
A41: E1.2.4 | B41: Categoria 1.2.4 - POSTE CORRETTIVE E COMPENSATIVE DI SPESE CORRENTI
...

Sheet Stampa rendiconto PI - USC 
A1: Autorità di Sistema Portuale del Mar Ionio - Porto di Taranto
A2: RENDICONTO FINANZIARIO GESTIONALE
A3: USCITE PARTE I Dal 01/01/2024 Al 31/12/2024 Anno di gestione: 2024
A5: Capitolo | E5: Gestione di Competenza
E6: Previsioni | I6: Somme da Impegnare | L6: Differenze rispetto alle previsioni
A7: Codice | B7: Descrizione | E7: Stanziamento Iniziale | F7: Variazioni(+) | G7: Variazioni(-) | H7: Previsione Assestata | I7: Pagamenti | J7: Da Pagare | K7: Impegnato | L7: Differenze Previsioni (+) | M7: Differenze Previsioni (-)
A8: U1 | B8: UPB 1 - TITOLO I - USCITE CORRENTI
A9: U1.1.1 | B9: Categoria 1.1.1 - USCITE PER GLI ORGANI DELL'ENTE
A10: U111/10 | B10: Indennità di carica e rimborsi spese al Presidente dell'Autorità Portuale | E10: 301651 | F10: 15000 | G10: 0 | H10: =E10+F10-G10 -> 316651 | I10: =ROUND(287362.37,0) -> 287362 | J10: =K10-I10 -> 164 | K10: =ROUND(287526.28,0) -> 287526 | L10: 0 | M10: =K10-H10 -> -29125
A11: U111/20 | B11: Indennità di carica e rimborsi spese ai membri del Comitato Portuale | E11: 7200 | F11: 0 | G11: 0 | H11: =E11+F11-G11 -> 7200 | I11: 0 | J11: =K11-I11 -> 0 | K11: 0 | L11: 0 | M11: =K11-H11 -> -7200
A12: U111/30 | B12: Indennità di carica e rimborso spese agli organi di controllo | E12: 75700 | F12: 0 | G12: 0 | H12: =E12+F12-G12 -> 75700 | I12: =ROUND(73686.79,0) -> 73687 | J12: =K12-I12 -> 1498 | K12: =ROUND(75184.79,0) -> 75185 | L12: 0 | M12: =K12-H12 -> -515
A13: TOTALE CATEGORIA U1.1.1 | E13: =SUM(E10:E12) -> 384551 | F13: =SUM(F10:F12) -> 15000 | G13: =SUM(G10:G12) -> 0 | H13: =SUM(H10:H12) -> 399551 | I13: =SUM(I10:I12) -> 361049 | J13: =SUM(J10:J12) -> 1662 | K13: =SUM(K10:K12) -> 362711 | L13: =SUM(L10:L12) -> 0 | M13: =SUM(M10:M12) -> -36840
A14: U1.1.2 | B14: Categoria 1.1.2 - ONERI PER IL PERSONALE IN ATTIVITÀ DI SERVIZIO
A15: U112/10 | B15: Emolumenti al Segretario Generale | E15: 224000 | F15: 0 | G15: 0 | H15: =E15+F15-G15 -> 224000 | I15: =ROUND(173221.98,0) -> 173222 | J15: =K15-I15 -> 0 | K15: =ROUND(173221.98,0) -> 173222 | L15: 0 | M15: =K15-H15 -> -50778
A16: U112/20 | B16: Emolumenti fissi al personale dipendente | E16: 2666066 | F16: 0 | G16: 0 | H16: =E16+F16-G16 -> 2666066 | I16: =ROUND(2570277.99,0) -> 2570278 | J16: =K16-I16 -> 33270 | K16: =ROUND(2603548.15,0) -> 2603548 | L16: 0 | M16: =K16-H16 -> -62518
A17: U112/30 | B17: Emolumenti variabili al personale dipendente | E17: 150000 | F17: 0 | G17: 100000 | H17: =E17+F17-G17 -> 50000 | I17: =ROUND(36624.07,0) -> 36624 | J17: =K17-I17 -> 0 | K17: =ROUND(36624.07,0) -> 36624 | L17: 0 | M17: =K17-H17 -> -13376
A18: U112/40 | B18: Indennità e rimborso per missioni | E18: 70000 | F18: 30000 | G18: 0 | H18: =E18+F18-G18 -> 100000 | I18: =ROUND(96144.2,0) -> 96144 | J18: =K18-I18 -> 480 | K18: =ROUND(96624.2,0) -> 96624 | L18: 0 | M18: =K18-H18 -> -3376
A19: U112/50 | B19: Altri oneri per il personale | E19: 6000 | F19: 0 | G19: 0 | H19: =E19+F19-G19 -> 6000 | I19: 0 | J19: =K19-I19 -> 0 | K19: 0 | L19: 0 | M19: =K19-H19 -> -6000
A20: U112/60 | B20: Spese per l'organizzazione di corsi per il personale e partecipaz. a spese per corsi indetti da Enti | E20: 50000 | F20: 3000 | G20: 0 | H20: =E20+F20-G20 -> 53000 | I20: =ROUND(44228.34,0) -> 44228 | J20: =K20-I20 -> 7861 | K20: =ROUND(52088.84,0) -> 52089 | L20: 0 | M20: =K20-H20 -> -911
A21: U112/70 | B21: Oneri previdenziali, assistenziali e fiscali a carico dell'Autorità Portuale | E21: 1192845 | F21: 187000 | G21: 0 | H21: =E21+F21-G21 -> 1379845 | I21: =ROUND(1078999.37,0) -> 1078999 | J21: =K21-I21 -> 267965 | K21: =ROUND(1346963.78,0) -> 1346964 | L21: 0 | M21: =K21-H21 -> -32881
A22: U112/80 | B22: Oneri della contrattazione decentrata o aziendale | E22: 2106781 | F22: 0 | G22: 0 | H22: =E22+F22-G22 -> 2106781 | I22: =ROUND(1843765.75,0) -> 1843766 | J22: =K22-I22 -> 66746 | K22: =ROUND(1910511.55,0) -> 1910512 | L22: 0 | M22: =K22-H22 -> -196269
A23: U112/90 | B23: Oneri derivanti da rinnovi contrattuali | E23: 46000 | F23: 0 | G23: 0 | H23: =E23+F23-G23 -> 46000 | I23: 0 | J23: =K23-I23 -> 0 | K23: 0 | L23: 0 | M23: =K23-H23 -> -46000
A24: TOTALE CATEGORIA U1.1.2 | E24: =SUM(E15:E23) -> 6511692 | F24: =SUM(F15:F23) -> 220000 | G24: =SUM(G15:G23) -> 100000 | H24: =SUM(H15:H23) -> 6631692 | I24: =SUM(I15:I23) -> 5843261 | J24: =SUM(J15:J23) -> 376322 | K24: =SUM(K15:K23) -> 6219583 | L24: =SUM(L15:L23) -> 0 | M24: =SUM(M15:M23) -> -412109
A25: U1.1.3 | B25: Categoria 1.1.3 - USCITE PER L'ACQUISTO DI BENI DI CONSUMO E DI SERVIZIO
A26: U113/10 | B26: Spese connesse con l' utilizzo dei mezzi di trasporto terrestri | E26: 4815 | F26: 0 | G26: 0 | H26: =E26+F26-G26 -> 4815 | I26: =ROUND(4295.22,0) -> 4295 | J26: =K26-I26 -> 520 | K26: 4815 | L26: 0 | M26: =K26-H26 -> 0
A27: U113/20 | B27: Spese connesse con l'utilizzo di mezzi nautici | E27: 0 | F27: 0 | G27: 0 | H27: =E27+F27-G27 -> 0 | I27: 0 | J27: =K27-I27 -> 0 | K27: 0 | L27: 0 | M27: =K27-H27 -> 0
A28: U113/30 | B28: Lavori di manutenzione, riparazione, adattamento di locali a disposizione dell'Autorità Portuale . spese per pulizia e vigilanza ufficio, spese di riscaldamento | E28: 240000 | F28: 0 | G28: 0 | H28: =E28+F28-G28 -> 240000 | I28: =ROUND(102794,0) -> 102794 | J28: =K28-I28 -> 30029 | K28: =ROUND(132823.47,0) -> 132823 | L28: 0 | M28: =K28-H28 -> -107177
A29: U113/40 | B29: Locazioni passive e leasing | E29: 50000 | F29: 0 | G29: 0 | H29: =E29+F29-G29 -> 50000 | I29: =ROUND(40074.84,0) -> 40075 | J29: =K29-I29 -> 2717 | K29: =ROUND(42792.26,0) -> 42792 | L29: 0 | M29: =K29-H29 -> -7208
A30: U113/50 | B30: Spese per consulenze, studi ed altre analoghe prestazioni professionali | E30: 0 | F30: 0 | G30: 0 | H30: =E30+F30-G30 -> 0 | I30: 0 | J30: =K30-I30 -> 0 | K30: 0 | L30: 0 | M30: =K30-H30 -> 0
A31: U113/60 | B31: Utenze varie | E31: 136000 | F31: 0 | G31: 0 | H31: =E31+F31-G31 -> 136000 | I31: =ROUND(65429.53,0) -> 65430 | J31: =K31-I31 -> 63527 | K31: =ROUND(128956.56,0) -> 128957 | L31: 0 | M31: =K31-H31 -> -7043
A32: U113/70 | B32: Materiale di economato e facile consumo | E32: 55000 | F32: 0 | G32: 0 | H32: =E32+F32-G32 -> 55000 | I32: =ROUND(43193.69,0) -> 43194 | J32: =K32-I32 -> 9153 | K32: =ROUND(52347.29,0) -> 52347 | L32: 0 | M32: =K32-H32 -> -2653
A33: U113/80 | B33: Abbonamento periodici e riviste | E33: 20000 | F33: 0 | G33: 0 | H33: =E33+F33-G33 -> 20000 | I33: =ROUND(18119.15,0) -> 18119 | J33: =K33-I33 -> 177 | K33: =ROUND(18295.95,0) -> 18296 | L33: 0 | M33: =K33-H33 -> -1704
A34: U113/90 | B34: Spese postali | E34: 5000 | F34: 0 | G34: 0 | H34: =E34+F34-G34 -> 5000 | I34: =ROUND(125,0) -> 125 | J34: =K34-I34 -> 0 | K34: =ROUND(125,0) -> 125 | L34: 0 | M34: =K34-H34 -> -4875
A35: U113/100 | B35: Spese diverse connesse al funzionamento degli uffici | E35: 132500 | F35: 0 | G35: =ROUND(6146.9,0) -> 6147 | H35: =E35+F35-G35 -> 126353 | I35: =ROUND(25543.84,0) -> 25544 | J35: =K35-I35 -> 100737 | K35: =ROUND(126281,0) -> 126281 | L35: 0 | M35: =K35-H35 -> -72
A36: U113/110 | B36: Spese per atti e contratti vari | E36: 0 | F36: 0 | G36: 0 | H36: =E36+F36-G36 -> 0 | I36: 0 | J36: =K36-I36 -> 0 | K36: 0 | L36: 0 | M36: =K36-H36 -> 0
A37: U113/120 | B37: Spese per trasporto materiali, mobili ed attrezzature speciali | E37: 0 | F37: 0 | G37: 0 | H37: =E37+F37-G37 -> 0 | I37: 0 | J37: =K37-I37 -> 0 | K37: 0 | L37: 0 | M37: =K37-H37 -> 0
A38: U113/130 | B38: Spese per effetti di corredo per il personale dipendente | E38: 6000 | F38: =ROUND(3021.9,0) -> 3022 | G38: 0 | H38: =E38+F38-G38 -> 9022 | I38: =ROUND(9021.9,0) -> 9022 | J38: =K38-I38 -> 0 | K38: =ROUND(9021.9,0) -> 9022 | L38: 0 | M38: =K38-H38 -> 0
A39: U113/140 | B39: Premi di assicurazione | E39: 15000 | F39: 3125 | G39: 0 | H39: =E39+F39-G39 -> 18125 | I39: =ROUND(5950,0) -> 5950 | J39: =K39-I39 -> 12175 | K39: =ROUND(18125,0) -> 18125 | L39: 0 | M39: =K39-H39 -> 0
A40: U113/150 | B40: Spese di pubblicità | E40: 15000 | F40: 0 | G40: 0 | H40: =E40+F40-G40 -> 15000 | I40: =ROUND(11287.43,0) -> 11287 | J40: =K40-I40 -> 1184 | K40: =ROUND(12470.75,0) -> 12471 | L40: 0 | M40: =K40-H40 -> -2529
A41: U113/160 | B41: Spese di rappresentanza | E41: 1000 | F41: 0 | G41: 0 | H41: =E41+F41-G41 -> 1000 | I41: =ROUND(885,0) -> 885 | J41: =K41-I41 -> 0 | K41: 885 | L41: 0 | M41: =K41-H41 -> -115
...

Sheet Stampa rendiconto PII - USCITE
A1: Autorità di Sistema Portuale del Mar Ionio - Porto di Taranto
A2: RENDICONTO FINANZIARIO GESTIONALE
A3: USCITE PARTE II Dal 01/01/2024 Al 31/12/2024 Anno di gestione: 2024
A5: Capitolo | E5: Gestione dei residui passivi | K5: Gestione di Cassa
I6: Variazioni | M6: Differenze rispetto alle previsioni
A7: Codice | B7: Descrizione | E7: Inizio Esercizio | F7: Pagamenti | G7: Da Pagare | H7: Totale | I7: Variazioni Residui(+) | J7: Variazioni Residui(-) | K7: Previsione Assestata | L7: Pagamenti | M7: Differenza previsioni(+) | N7: Differenza previsioni(-) | O7: Totale Residui
A8: U1 | B8: UPB 1 - TITOLO I - USCITE CORRENTI
A9: U1.1.1 | B9: Categoria 1.1.1 - USCITE PER GLI ORGANI DELL'ENTE
A10: U111/10 | B10: Indennità di carica e rimborsi spese al Presidente dell'Autorità Portuale | E10: 2087 | F10: =ROUND(1941.06,0) -> 1941 | G10: =H10-F10 -> 0 | H10: =E10-J10 -> 1941 | I10: 0 | J10: 146 | K10: =H10+'Stampa rendiconto PI - USC '!H10 -> 318592 | L10: =F10+'Stampa rendiconto PI - USC '!I10 -> 289303 | M10: 0 | N10: =K10-L10 -> 29289 | O10: =G10+'Stampa rendiconto PI - USC '!J10 -> 164
A11: U111/20 | B11: Indennità di carica e rimborsi spese ai membri del Comitato Portuale | E11: 580 | F11: 330 | G11: =H11-F11 -> 250 | H11: =E11 -> 580 | I11: 0 | J11: 0 | K11: =H11+'Stampa rendiconto PI - USC '!H11 -> 7780 | L11: =F11+'Stampa rendiconto PI - USC '!I11 -> 330 | M11: 0 | N11: =K11-L11 -> 7450 | O11: =G11+'Stampa rendiconto PI - USC '!J11 -> 250
A12: U111/30 | B12: Indennità di carica e rimborso spese agli organi di controllo | E12: 7224 | F12: =ROUND(7163.39,0)+1 -> 7164 | G12: =H12-F12 -> 0 | H12: =E12-J12 -> 7164 | I12: 0 | J12: 60 | K12: =H12+'Stampa rendiconto PI - USC '!H12 -> 82864 | L12: =F12+'Stampa rendiconto PI - USC '!I12 -> 80851 | M12: 0 | N12: =K12-L12 -> 2013 | O12: =G12+'Stampa rendiconto PI - USC '!J12 -> 1498
A13: TOTALE CATEGORIA U1.1.1 | E13: =SUM(E10:E12) -> 9891 | F13: =SUM(F10:F12) -> 9435 | G13: =SUM(G10:G12) -> 250 | H13: =SUM(H10:H12) -> 9685 | I13: =SUM(I10:I12) -> 0 | J13: =SUM(J10:J12) -> 206 | K13: =SUM(K10:K12) -> 409236 | L13: =SUM(L10:L12) -> 370484 | ... N13: =SUM(N10:N12) -> 38752 | O13: =SUM(O10:P12) -> 1912
A14: U1.1.2 | B14: Categoria 1.1.2 - ONERI PER IL PERSONALE IN ATTIVITÀ DI SERVIZIO
A15: U112/10 | B15: Emolumenti al Segretario Generale | E15: 0 | F15: 0 | G15: =H15-F15 -> 0 | H15: =E15 -> 0 | I15: 0 | J15: 0 | K15: =H15+'Stampa rendiconto PI - USC '!H15 -> 224000 | L15: =F15+'Stampa rendiconto PI - USC '!I15 -> 173222 | M15: 0 | N15: =K15-L15 -> 50778 | O15: =G15+'Stampa rendiconto PI - USC '!J15 -> 0
A16: U112/20 | B16: Emolumenti fissi al personale dipendente | E16: 38789 | F16: =E16 -> 38789 | G16: =H16-F16 -> 0 | H16: =E16 -> 38789 | I16: 0 | J16: 0 | K16: =H16+'Stampa rendiconto PI - USC '!H16 -> 2704855 | L16: =F16+'Stampa rendiconto PI - USC '!I16 -> 2609067 | M16: 0 | N16: =K16-L16 -> 95788 | O16: =G16+'Stampa rendiconto PI - USC '!J16 -> 33270
A17: U112/30 | B17: Emolumenti variabili al personale dipendente | E17: 0 | F17: 0 | G17: =H17-F17 -> 0 | H17: =E17 -> 0 | I17: 0 | J17: 0 | K17: =H17+'Stampa rendiconto PI - USC '!H17 -> 50000 | L17: =F17+'Stampa rendiconto PI - USC '!I17 -> 36624 | M17: 0 | N17: =K17-L17 -> 13376 | O17: =G17+'Stampa rendiconto PI - USC '!J17 -> 0
A18: U112/40 | B18: Indennità e rimborso per missioni | E18: 1929 | F18: =ROUND(1919.06,0) -> 1919 | G18: =H18-F18 -> 0 | H18: =E18-J18 -> 1919 | I18: 0 | J18: 10 | K18: =H18+'Stampa rendiconto PI - USC '!H18 -> 101919 | L18: =F18+'Stampa rendiconto PI - USC '!I18 -> 98063 | M18: 0 | N18: =K18-L18 -> 3856 | O18: =G18+'Stampa rendiconto PI - USC '!J18 -> 480
A19: U112/50 | B19: Altri oneri per il personale | E19: 0 | F19: 0 | G19: =H19-F19 -> 0 | H19: =E19 -> 0 | I19: 0 | J19: 0 | K19: =H19+'Stampa rendiconto PI - USC '!H19 -> 6000 | L19: =F19+'Stampa rendiconto PI - USC '!I19 -> 0 | M19: 0 | N19: =K19-L19 -> 6000 | O19: =G19+'Stampa rendiconto PI - USC '!J19 -> 0
A20: U112/60 | B20: Spese per l'organizzazione di corsi per il personale e partecipaz. a spese per corsi indetti da Enti | E20: 23074 | F20: =ROUND(22594.2,0) -> 22594 | G20: =H20-F20 -> 0 | H20: =E20-J20 -> 22594 | I20: 0 | J20: 480 | K20: =H20+'Stampa rendiconto PI - USC '!H20 -> 75594 | L20: =F20+'Stampa rendiconto PI - USC '!I20 -> 66822 | M20: 0 | N20: =K20-L20 -> 8772 | O20: =G20+'Stampa rendiconto PI - USC '!J20 -> 7861
A21: U112/70 | B21: Oneri previdenziali, assistenziali e fiscali a carico dell'Autorità Portuale | E21: 243866 | F21: =ROUND(140722.35,0) -> 140722 | G21: =H21-F21 -> 103001 | H21: =E21-J21 -> 243723 | I21: 0 | J21: 143 | K21: =H21+'Stampa rendiconto PI - USC '!H21 -> 1623568 | L21: =F21+'Stampa rendiconto PI - USC '!I21 -> 1219721 | M21: 0 | N21: =K21-L21 -> 403847 | O21: =G21+'Stampa rendiconto PI - USC '!J21 -> 370966
A22: U112/80 | B22: Oneri della contrattazione decentrata o aziendale | E22: 0 | F22: 0 | G22: =H22-F22 -> 0 | H22: =E22 -> 0 | I22: 0 | J22: 0 | K22: =H22+'Stampa rendiconto PI - USC '!H22 -> 2106781 | L22: =F22+'Stampa rendiconto PI - USC '!I22 -> 1843766 | M22: 0 | N22: =K22-L22 -> 263015 | O22: =G22+'Stampa rendiconto PI - USC '!J22 -> 66746
A23: U112/90 | B23: Oneri derivanti da rinnovi contrattuali | E23: 0 | F23: 0 | G23: =H23-F23 -> 0 | H23: =E23 -> 0 | I23: 0 | J23: 0 | K23: =H23+'Stampa rendiconto PI - USC '!H23 -> 46000 | L23: =F23+'Stampa rendiconto PI - USC '!I23 -> 0 | M23: 0 | N23: =K23-L23 -> 46000 | O23: =G23+'Stampa rendiconto PI - USC '!J23 -> 0
A24: TOTALE CATEGORIA U1.1.2 | E24: =SUM(E15:E23) -> 307658 | F24: =SUM(F15:F23) -> 204024 | G24: =SUM(G15:G23) -> 103001 | H24: =SUM(H15:H23) -> 307025 | I24: =SUM(I15:I23) -> 0 | J24: =SUM(J15:J23) -> 633 | K24: =SUM(K15:K23) -> 6938717 | L24: =SUM(L15:L23) -> 6047285 | ... N24: =SUM(N15:N23) -> 891432 | O24: =SUM(O15:P23) -> 479323
A25: U1.1.3 | B25: Categoria 1.1.3 - USCITE PER L'ACQUISTO DI BENI DI CONSUMO E DI SERVIZIO
A26: U113/10 | B26: Spese connesse con l' utilizzo dei mezzi di trasporto terrestri | E26: 11078 | F26: =ROUND(3452.4,0) -> 3452 | G26: =H26-F26 -> 7626 | H26: =E26-J26 -> 11078 | I26: 0 | J26: 0 | K26: =H26+'Stampa rendiconto PI - USC '!H26 -> 15893 | L26: =F26+'Stampa rendiconto PI - USC '!I26 -> 7747 | M26: 0 | N26: =K26-L26 -> 8146 | O26: =G26+'Stampa rendiconto PI - USC '!J26 -> 8146
A27: U113/20 | B27: Spese connesse con l'utilizzo di mezzi nautici | E27: 0 | F27: 0 | G27: =H27-F27 -> 0 | H27: =E27-J27 -> 0 | I27: 0 | J27: 0 | K27: =H27+'Stampa rendiconto PI - USC '!H27 -> 0 | L27: =F27+'Stampa rendiconto PI - USC '!I27 -> 0 | M27: 0 | N27: =K27-L27 -> 0 | O27: =G27+'Stampa rendiconto PI - USC '!J27 -> 0
A28: U113/30 | B28: Lavori di manutenzione, riparazione, adattamento di locali a disposizione dell'Autorità Portuale . spese per pulizia e vigilanza ufficio, spese di riscaldamento | E28: 43164 | F28: =ROUND(35857.17,0) -> 35857 | G28: =H28-F28 -> 7307 | H28: =E28-J28 -> 43164 | I28: 0 | J28: 0 | K28: =H28+'Stampa rendiconto PI - USC '!H28 -> 283164 | L28: =F28+'Stampa rendiconto PI - USC '!I28 -> 138651 | M28: 0 | N28: =K28-L28 -> 144513 | O28: =G28+'Stampa rendiconto PI - USC '!J28 -> 37336
A29: U113/40 | B29: Locazioni passive e leasing | E29: 2873 | F29: =ROUND(2466.97,0) -> 2467 | G29: =H29-F29 -> 163 | H29: =E29-J29 -> 2630 | I29: 0 | J29: 243 | K29: =H29+'Stampa rendiconto PI - USC '!H29 -> 52630 | L29: =F29+'Stampa rendiconto PI - USC '!I29 -> 42542 | M29: 0 | N29: =K29-L29 -> 10088 | O29: =G29+'Stampa rendiconto PI - USC '!J29 -> 2880
A30: U113/50 | B30: Spese per consulenze, studi ed altre analoghe prestazioni professionali | E30: 0 | F30: 0 | G30: =H30-F30 -> 0 | H30: =E30-J30 -> 0 | I30: 0 | J30: 0 | K30: =H30+'Stampa rendiconto PI - USC '!H30 -> 0 | L30: =F30+'Stampa rendiconto PI - USC '!I30 -> 0 | M30: 0 | N30: =K30-L30 -> 0 | O30: =G30+'Stampa rendiconto PI - USC '!J30 -> 0
A31: U113/60 | B31: Utenze varie | E31: 40205 | F31: =ROUND(26109.93,0) -> 26110 | G31: =H31-F31 -> 14095 | H31: =E31-J31 -> 40205 | I31: 0 | J31: 0 | K31: =H31+'Stampa rendiconto PI - USC '!H31 -> 176205 | L31: =F31+'Stampa rendiconto PI - USC '!I31 -> 91540 | M31: 0 | N31: =K31-L31 -> 84665 | O31: =G31+'Stampa rendiconto PI - USC '!J31 -> 77622
A32: U113/70 | B32: Materiale di economato e facile consumo | E32: 1157 | F32: =ROUND(1157.79,0) -> 1158 | G32: =H32-F32 -> -1 | H32: =E32-J32 -> 1157 | I32: 0 | J32: 0 | K32: =H32+'Stampa rendiconto PI - USC '!H32 -> 56157 | L32: =F32+'Stampa rendiconto PI - USC '!I32 -> 44352 | M32: 0 | N32: =K32-L32 -> 11805 | O32: =G32+'Stampa rendiconto PI - USC '!J32 -> 9152
A33: U113/80 | B33: Abbonamento periodici e riviste | E33: 177 | F33: =ROUND(176.8,0) -> 177 | G33: =H33-F33 -> 0 | H33: =E33-J33 -> 177 | I33: 0 | J33: 0 | K33: =H33+'Stampa rendiconto PI - USC '!H33 -> 20177 | L33: =F33+'Stampa rendiconto PI - USC '!I33 -> 18296 | M33: 0 | N33: =K33-L33 -> 1881 | O33: =G33+'Stampa rendiconto PI - USC '!J33 -> 177
A34: U113/90 | B34: Spese postali | E34: 1152 | F34: =ROUND(831.82,0) -> 832 | G34: =H34-F34 -> 320 | H34: =E34-J34 -> 1152 | I34: 0 | J34: 0 | K34: =H34+'Stampa rendiconto PI - USC '!H34 -> 6152 | L34: =F34+'Stampa rendiconto PI - USC '!I34 -> 957 | M34: 0 | N34: =K34-L34 -> 5195 | O34: =G34+'Stampa rendiconto PI - USC '!J34 -> 320
A35: U113/100 | B35: Spese diverse connesse al funzionamento degli uffici | E35: 56107 | F35: =ROUND(48313.52,0) -> 48314 | G35: =H35-F35 -> 7102 | H35: =E35-J35 -> 55416 | I35: 0 | J35: 691 | K35: =H35+'Stampa rendiconto PI - USC '!H35 -> 181769 | L35: =F35+'Stampa rendiconto PI - USC '!I35 -> 73858 | M35: 0 | N35: =K35-L35 -> 107911 | O35: =G35+'Stampa rendiconto PI - USC '!J35 -> 107839
A36: U113/110 | B36: Spese per atti e contratti vari | E36: 0 | F36: 0 | G36: =H36-F36 -> 0 | H36: =E36-J36 -> 0 | I36: 0 | J36: 0 | K36: =H36+'Stampa rendiconto PI - USC '!H36 -> 0 | L36: =F36+'Stampa rendiconto PI - USC '!I36 -> 0 | M36: 0 | N36: =K36-L36 -> 0 | O36: =G36+'Stampa rendiconto PI - USC '!J36 -> 0
A37: U113/120 | B37: Spese per trasporto materiali, mobili ed attrezzature speciali | E37: 0 | F37: 0 | G37: =H37-F37 -> 0 | H37: =E37-J37 -> 0 | I37: 0 | J37: 0 | K37: =H37+'Stampa rendiconto PI - USC '!H37 -> 0 | L37: =F37+'Stampa rendiconto PI - USC '!I37 -> 0 | M37: 0 | N37: =K37-L37 -> 0 | O37: =G37+'Stampa rendiconto PI - USC '!J37 -> 0
A38: U113/130 | B38: Spese per effetti di corredo per il personale dipendente | E38: 0 | F38: 0 | G38: =H38-F38 -> 0 | H38: =E38-J38 -> 0 | I38: 0 | J38: 0 | K38: =H38+'Stampa rendiconto PI - USC '!H38 -> 9022 | L38: =F38+'Stampa rendiconto PI - USC '!I38 -> 9022 | M38: 0 | N38: =K38-L38 -> 0 | O38: =G38+'Stampa rendiconto PI - USC '!J38 -> 0
A39: U113/140 | B39: Premi di assicurazione | E39: 0 | F39: 0 | G39: =H39-F39 -> 0 | H39: =E39-J39 -> 0 | I39: 0 | J39: 0 | K39: =H39+'Stampa rendiconto PI - USC '!H39 -> 18125 | L39: =F39+'Stampa rendiconto PI - USC '!I39 -> 5950 | M39: 0 | N39: =K39-L39 -> 12175 | O39: =G39+'Stampa rendiconto PI - USC '!J39 -> 12175
A40: U113/150 | B40: Spese di pubblicità | E40: 0 | F40: 0 | G40: =H40-F40 -> 0 | H40: =E40-J40 -> 0 | I40: 0 | J40: 0 | K40: =H40+'Stampa rendiconto PI - USC '!H40 -> 15000 | L40: =F40+'Stampa rendiconto PI - USC '!I40 -> 11287 | M40: 0 | N40: =K40-L40 -> 3713 | O40: =G40+'Stampa rendiconto PI - USC '!J40 -> 1184
A41: U113/160 | B41: Spese di rappresentanza | E41: 288 | F41: =E41 -> 288 | G41: =H41-F41 -> 0 | H41: =E41-J41 -> 288 | I41: 0 | J41: 0 | K41: =H41+'Stampa rendiconto PI - USC '!H41 -> 1288 | L41: =F41+'Stampa rendiconto PI - USC '!I41 -> 1173 | M41: 0 | N41: =K41-L41 -> 115 | O41: =G41+'Stampa rendiconto PI - USC '!J41 -> 0
...
